BEGIN:VCALENDAR
VERSION:2.0
PRODID:-//MŠ Březová - ECPv5.9.1//NONSGML v1.0//EN
CALSCALE:GREGORIAN
METHOD:PUBLISH
X-WR-CALNAME:MŠ Březová
X-ORIGINAL-URL:https://skolka-komenskeho.cz
X-WR-CALDESC:Akce na MŠ Březová
BEGIN:VTIMEZONE
TZID:Europe/Prague
BEGIN:DAYLIGHT
TZOFFSETFROM:+0100
TZOFFSETTO:+0200
TZNAME:CEST
DTSTART:20260329T010000
END:DAYLIGHT
BEGIN:STANDARD
TZOFFSETFROM:+0200
TZOFFSETTO:+0100
TZNAME:CET
DTSTART:20261025T010000
END:STANDARD
END:VTIMEZONE
BEGIN:VEVENT
DTSTART;TZID=Europe/Prague:20260423T150000
DTEND;TZID=Europe/Prague:20260423T170000
DTSTAMP:20260425T175439
CREATED:20260413T061418Z
LAST-MODIFIED:20260413T061418Z
UID:3303-1776956400-1776963600@skolka-komenskeho.cz
SUMMARY:Odpolední hraní ve školce - RYBIČKY
DESCRIPTION:Milí rodiče\, srdečně vás zveme na příjemné odpoledne strávené s vašimi dětmi u nás ve školce.\nPřijďte si s námi pohrát\, tvořit a užít si společný čas v pohodové atmosféře.
URL:https://skolka-komenskeho.cz/kalendar/odpoledni-hrani-ve-skolce-rybicky/
CATEGORIES:Kalendář bez hlavní stránky
END:VEVENT
END:VCALENDAR