BEGIN:VCALENDAR
VERSION:2.0
PRODID:-//MŠ Březová - ECPv5.9.1//NONSGML v1.0//EN
CALSCALE:GREGORIAN
METHOD:PUBLISH
X-WR-CALNAME:MŠ Březová
X-ORIGINAL-URL:https://skolka-komenskeho.cz
X-WR-CALDESC:Akce na MŠ Březová
BEGIN:VTIMEZONE
TZID:Europe/Prague
BEGIN:DAYLIGHT
TZOFFSETFROM:+0100
TZOFFSETTO:+0200
TZNAME:CEST
DTSTART:20260329T010000
END:DAYLIGHT
BEGIN:STANDARD
TZOFFSETFROM:+0200
TZOFFSETTO:+0100
TZNAME:CET
DTSTART:20261025T010000
END:STANDARD
END:VTIMEZONE
BEGIN:VEVENT
DTSTART;TZID=Europe/Prague:20260421T090000
DTEND;TZID=Europe/Prague:20260421T110000
DTSTAMP:20260426T011559
CREATED:20260415T104351Z
LAST-MODIFIED:20260415T104351Z
UID:3327-1776762000-1776769200@skolka-komenskeho.cz
SUMMARY:Návštěva knihovny
DESCRIPTION:VT navštíví knihovnu od 9.00 třída Rybičky od 10.00 P. knihovnice nám všemi smysly rozšíří znalosti nejen o přírodě.
URL:https://skolka-komenskeho.cz/kalendar/navsteva-knihovny-3/
CATEGORIES:Kalendář bez hlavní stránky
END:VEVENT
END:VCALENDAR