BEGIN:VCALENDAR
VERSION:2.0
PRODID:-//MŠ Březová - ECPv5.9.1//NONSGML v1.0//EN
CALSCALE:GREGORIAN
METHOD:PUBLISH
X-WR-CALNAME:MŠ Březová
X-ORIGINAL-URL:https://skolka-komenskeho.cz
X-WR-CALDESC:Akce na MŠ Březová
BEGIN:VTIMEZONE
TZID:Europe/Prague
BEGIN:DAYLIGHT
TZOFFSETFROM:+0100
TZOFFSETTO:+0200
TZNAME:CEST
DTSTART:20260329T010000
END:DAYLIGHT
BEGIN:STANDARD
TZOFFSETFROM:+0200
TZOFFSETTO:+0100
TZNAME:CET
DTSTART:20261025T010000
END:STANDARD
END:VTIMEZONE
BEGIN:VEVENT
DTSTART;TZID=Europe/Prague:20260421T100000
DTEND;TZID=Europe/Prague:20260421T110000
DTSTAMP:20260425T235241
CREATED:20260413T062159Z
LAST-MODIFIED:20260419T180429Z
UID:3307-1776765600-1776769200@skolka-komenskeho.cz
SUMMARY:Cvičení v MFC - RYBIČKY -ODPADÁ
DESCRIPTION:Batoh- pití\, přezůvky\, TRIKO\, TEPLÁKY ( KRAŤASY)RUČNÍK\, PONOŽKY 
URL:https://skolka-komenskeho.cz/kalendar/cviceni-v-mfc-rybicky-2/
CATEGORIES:Kalendář bez hlavní stránky
END:VEVENT
END:VCALENDAR